BEGIN:VCALENDAR
VERSION:2.0
CALSCALE:GREGORIAN
PRODID:-//Diputació de Barcelona//DibaCMS//EN
BEGIN:VEVENT
UID:23409
DTSTAMP:20260423T110544
DTSTART:20110729T220000
DTEND:20110729T000000
SUMMARY:OSJC (MEV 2011)
LOCATION:
METHOD:PUBLISH
X-WR-CALNAME:e-seu@ajpiera.cat
X-WR-TIMEZONE:Europe/Madrid
DESCRIPTION:OSJC (MEV 2011)
URI:https://www.viladepiera.cat/actualitat/agenda/osjc-mev-2011.html
CLASS:PUBLIC
END:VEVENT
END:VCALENDAR
