BEGIN:VCALENDAR
VERSION:2.0
CALSCALE:GREGORIAN
PRODID:-//Diputació de Barcelona//DibaCMS//EN
BEGIN:VEVENT
UID:23414
DTSTAMP:20260423T072134
DTSTART:20110730T213000
DTEND:20110730T213000
SUMMARY:Carnaval do Verao
LOCATION:
METHOD:PUBLISH
X-WR-CALNAME:e-seu@ajpiera.cat
X-WR-TIMEZONE:Europe/Madrid
DESCRIPTION:Carnaval do Verao

URI:https://www.viladepiera.cat/actualitat/agenda/carnaval-do-verao.html
CLASS:PUBLIC
END:VEVENT
END:VCALENDAR
