BEGIN:VCALENDAR
VERSION:2.0
CALSCALE:GREGORIAN
PRODID:-//Diputació de Barcelona//DibaCMS//EN
BEGIN:VEVENT
UID:23416
DTSTAMP:20260423T001609
DTSTART:20110731T080000
DTEND:20110731T000000
SUMMARY:III Reunió motera
LOCATION:
METHOD:PUBLISH
X-WR-CALNAME:e-seu@ajpiera.cat
X-WR-TIMEZONE:Europe/Madrid
DESCRIPTION:III Reunió motera
URI:https://www.viladepiera.cat/actualitat/agenda/iii-reunio-motera.html
CLASS:PUBLIC
END:VEVENT
END:VCALENDAR
