BEGIN:VCALENDAR
VERSION:2.0
CALSCALE:GREGORIAN
PRODID:-//Diputació de Barcelona//DibaCMS//EN
BEGIN:VEVENT
UID:23421
DTSTAMP:20260422T212714
DTSTART:20110812T000000
DTEND:20110815T000000
SUMMARY:Festa la Venta-Can Mussarro
LOCATION:
METHOD:PUBLISH
X-WR-CALNAME:e-seu@ajpiera.cat
X-WR-TIMEZONE:Europe/Madrid
DESCRIPTION:Festa la Venta-Can Mussarro
URI:https://www.viladepiera.cat/actualitat/agenda/festa-la-venta-can-mussarro.html
CLASS:PUBLIC
END:VEVENT
END:VCALENDAR
