BEGIN:VCALENDAR
VERSION:2.0
CALSCALE:GREGORIAN
PRODID:-//Diputació de Barcelona//DibaCMS//EN
BEGIN:VEVENT
UID:23424
DTSTAMP:20260422T202101
DTSTART:20110820T000000
DTEND:20110820T000000
SUMMARY:Festa Major Can Mata
LOCATION:
METHOD:PUBLISH
X-WR-CALNAME:e-seu@ajpiera.cat
X-WR-TIMEZONE:Europe/Madrid
DESCRIPTION:Festa Major Can Mata
URI:https://www.viladepiera.cat/actualitat/agenda/23424-festa-major-can-mata.html
CLASS:PUBLIC
END:VEVENT
END:VCALENDAR
