BEGIN:VCALENDAR
VERSION:2.0
CALSCALE:GREGORIAN
PRODID:-//Diputació de Barcelona//DibaCMS//EN
BEGIN:VEVENT
UID:23428
DTSTAMP:20260422T213942
DTSTART:20110826T170000
DTEND:20110828T210000
SUMMARY:V Torneig de vòlei sorra
LOCATION:
METHOD:PUBLISH
X-WR-CALNAME:e-seu@ajpiera.cat
X-WR-TIMEZONE:Europe/Madrid
DESCRIPTION:V Torneig de vòlei sorra
URI:https://www.viladepiera.cat/actualitat/agenda/v-torneig-de-volei-sorra.html
CLASS:PUBLIC
END:VEVENT
END:VCALENDAR
