BEGIN:VCALENDAR
VERSION:2.0
CALSCALE:GREGORIAN
PRODID:-//Diputació de Barcelona//DibaCMS//EN
BEGIN:VEVENT
UID:23431
DTSTAMP:20260423T013115
DTSTART:20110902T190000
DTEND:20110902T000000
SUMMARY:Inauguració de l'exposició: Pedres insòlites
LOCATION:
METHOD:PUBLISH
X-WR-CALNAME:e-seu@ajpiera.cat
X-WR-TIMEZONE:Europe/Madrid
DESCRIPTION:Inauguració de l'exposició: Pedres insòlites
URI:https://www.viladepiera.cat/actualitat/agenda/inauguracio-de-lexposicio-pedres-insolites.html
CLASS:PUBLIC
END:VEVENT
END:VCALENDAR
