BEGIN:VCALENDAR
VERSION:2.0
CALSCALE:GREGORIAN
PRODID:-//Diputació de Barcelona//DibaCMS//EN
BEGIN:VEVENT
UID:23433
DTSTAMP:20260422T214428
DTSTART:20110903T180000
DTEND:20110903T000000
SUMMARY:Trofeu de futbol veterans
LOCATION:
METHOD:PUBLISH
X-WR-CALNAME:e-seu@ajpiera.cat
X-WR-TIMEZONE:Europe/Madrid
DESCRIPTION:Trofeu de futbol veterans
URI:https://www.viladepiera.cat/actualitat/agenda/trofeu-de-futbol-veterans.html
CLASS:PUBLIC
END:VEVENT
END:VCALENDAR
