BEGIN:VCALENDAR
VERSION:2.0
CALSCALE:GREGORIAN
PRODID:-//Diputació de Barcelona//DibaCMS//EN
BEGIN:VEVENT
UID:23435
DTSTAMP:20260423T014238
DTSTART:20110903T000000
DTEND:20110903T000000
SUMMARY:Actes Festa Major
LOCATION:
METHOD:PUBLISH
X-WR-CALNAME:e-seu@ajpiera.cat
X-WR-TIMEZONE:Europe/Madrid
DESCRIPTION:Actes Festa Major

URI:https://www.viladepiera.cat/actualitat/agenda/23435-actes-festa-major.html
CLASS:PUBLIC
END:VEVENT
END:VCALENDAR
