BEGIN:VCALENDAR
VERSION:2.0
CALSCALE:GREGORIAN
PRODID:-//Diputació de Barcelona//DibaCMS//EN
BEGIN:VEVENT
UID:23444
DTSTAMP:20260421T231117
DTSTART:20121125T190000
DTEND:20121125T190000
SUMMARY:Dia Internacional contra la Violència de Gènere
LOCATION:
METHOD:PUBLISH
X-WR-CALNAME:e-seu@ajpiera.cat
X-WR-TIMEZONE:Europe/Madrid
DESCRIPTION:Dia Internacional contra la Violència de Gènere

URI:https://www.viladepiera.cat/actualitat/agenda/dia-internacional-contra-la-violencia-de-genere.html
CLASS:PUBLIC
END:VEVENT
END:VCALENDAR
