BEGIN:VCALENDAR
VERSION:2.0
CALSCALE:GREGORIAN
PRODID:-//Diputació de Barcelona//DibaCMS//EN
BEGIN:VEVENT
UID:23445
DTSTAMP:20260422T225328
DTSTART:20110913T193000
DTEND:20110913T000000
SUMMARY:Presentació web Piera Intercanvia
LOCATION:
METHOD:PUBLISH
X-WR-CALNAME:e-seu@ajpiera.cat
X-WR-TIMEZONE:Europe/Madrid
DESCRIPTION:Presentació web Piera Intercanvia
URI:https://www.viladepiera.cat/actualitat/agenda/23445-presentacio-web-piera-intercanvia.html
CLASS:PUBLIC
END:VEVENT
END:VCALENDAR
