BEGIN:VCALENDAR
VERSION:2.0
CALSCALE:GREGORIAN
PRODID:-//Diputació de Barcelona//DibaCMS//EN
BEGIN:VEVENT
UID:23447
DTSTAMP:20260422T033049
DTSTART:20121125T200000
DTEND:20121125T200000
SUMMARY:Especial Eleccions al Parlament 2012
LOCATION:
METHOD:PUBLISH
X-WR-CALNAME:e-seu@ajpiera.cat
X-WR-TIMEZONE:Europe/Madrid
DESCRIPTION:Especial Eleccions al Parlament 2012

URI:https://www.viladepiera.cat/actualitat/agenda/especial-eleccions-al-parlament-2012.html
CLASS:PUBLIC
END:VEVENT
END:VCALENDAR
