BEGIN:VCALENDAR
VERSION:2.0
CALSCALE:GREGORIAN
PRODID:-//Diputació de Barcelona//DibaCMS//EN
BEGIN:VEVENT
UID:23448
DTSTAMP:20260421T202727
DTSTART:20121126T190000
DTEND:20121126T000000
SUMMARY:Audició de Santa Cecília
LOCATION:
METHOD:PUBLISH
X-WR-CALNAME:e-seu@ajpiera.cat
X-WR-TIMEZONE:Europe/Madrid
DESCRIPTION:Audició de Santa Cecília
URI:https://www.viladepiera.cat/actualitat/agenda/audicio-de-santa-cecilia.html
CLASS:PUBLIC
END:VEVENT
END:VCALENDAR
