BEGIN:VCALENDAR
VERSION:2.0
CALSCALE:GREGORIAN
PRODID:-//Diputació de Barcelona//DibaCMS//EN
BEGIN:VEVENT
UID:23449
DTSTAMP:20260421T231457
DTSTART:20121126T103000
DTEND:20121126T130000
SUMMARY:Oficina Mòbil d'Informació al Consumidor
LOCATION:
METHOD:PUBLISH
X-WR-CALNAME:e-seu@ajpiera.cat
X-WR-TIMEZONE:Europe/Madrid
DESCRIPTION:Oficina Mòbil d'Informació al Consumidor
URI:https://www.viladepiera.cat/actualitat/agenda/23449-oficina-mobil-dinformacio-al-consumidor.html
CLASS:PUBLIC
END:VEVENT
END:VCALENDAR
