BEGIN:VCALENDAR
VERSION:2.0
CALSCALE:GREGORIAN
PRODID:-//Diputació de Barcelona//DibaCMS//EN
BEGIN:VEVENT
UID:23450
DTSTAMP:20260422T212604
DTSTART:20110914T000000
DTEND:20110914T000000
SUMMARY:Presentació equp sènior HC Piera
LOCATION:
METHOD:PUBLISH
X-WR-CALNAME:e-seu@ajpiera.cat
X-WR-TIMEZONE:Europe/Madrid
DESCRIPTION:Presentació equp sènior HC Piera
URI:https://www.viladepiera.cat/actualitat/agenda/presentacio-equp-senior-hc-piera.html
CLASS:PUBLIC
END:VEVENT
END:VCALENDAR
