BEGIN:VCALENDAR
VERSION:2.0
CALSCALE:GREGORIAN
PRODID:-//Diputació de Barcelona//DibaCMS//EN
BEGIN:VEVENT
UID:23451
DTSTAMP:20260421T190051
DTSTART:20121126T170000
DTEND:20121126T170000
SUMMARY:Inici d'exposició: Pierenques
LOCATION:
METHOD:PUBLISH
X-WR-CALNAME:e-seu@ajpiera.cat
X-WR-TIMEZONE:Europe/Madrid
DESCRIPTION:Inici d'exposició: Pierenques

URI:https://www.viladepiera.cat/actualitat/agenda/inici-dexposicio-pierenques.html
CLASS:PUBLIC
END:VEVENT
END:VCALENDAR
