BEGIN:VCALENDAR
VERSION:2.0
CALSCALE:GREGORIAN
PRODID:-//Diputació de Barcelona//DibaCMS//EN
BEGIN:VEVENT
UID:23453
DTSTAMP:20260421T193122
DTSTART:20121127T180000
DTEND:20121127T000000
SUMMARY:Rusquiactivitat: Els sons de la natura
LOCATION:
METHOD:PUBLISH
X-WR-CALNAME:e-seu@ajpiera.cat
X-WR-TIMEZONE:Europe/Madrid
DESCRIPTION:Rusquiactivitat: Els sons de la natura
URI:https://www.viladepiera.cat/actualitat/agenda/rusquiactivitat-els-sons-de-la-natura.html
CLASS:PUBLIC
END:VEVENT
END:VCALENDAR
