BEGIN:VCALENDAR
VERSION:2.0
CALSCALE:GREGORIAN
PRODID:-//Diputació de Barcelona//DibaCMS//EN
BEGIN:VEVENT
UID:23454
DTSTAMP:20260422T202045
DTSTART:20110914T160000
DTEND:20110914T190000
SUMMARY:Inici del curs de sardanes
LOCATION:
METHOD:PUBLISH
X-WR-CALNAME:e-seu@ajpiera.cat
X-WR-TIMEZONE:Europe/Madrid
DESCRIPTION:Inici del curs de sardanes
URI:https://www.viladepiera.cat/actualitat/agenda/inici-del-curs-de-sardanes.html
CLASS:PUBLIC
END:VEVENT
END:VCALENDAR
