BEGIN:VCALENDAR
VERSION:2.0
CALSCALE:GREGORIAN
PRODID:-//Diputació de Barcelona//DibaCMS//EN
BEGIN:VEVENT
UID:23455
DTSTAMP:20260421T215551
DTSTART:20121129T180000
DTEND:20121129T180000
SUMMARY:Xerrada: Introducció a la meteorologia espacial i fenòmens solars
LOCATION:
METHOD:PUBLISH
X-WR-CALNAME:e-seu@ajpiera.cat
X-WR-TIMEZONE:Europe/Madrid
DESCRIPTION:Xerrada: Introducció a la meteorologia espacial i fenòmens solars

URI:https://www.viladepiera.cat/actualitat/agenda/xerrada-introduccio-a-la-meteorologia-espacial-i-fenomens-solars.html
CLASS:PUBLIC
END:VEVENT
END:VCALENDAR
