BEGIN:VCALENDAR
VERSION:2.0
CALSCALE:GREGORIAN
PRODID:-//Diputació de Barcelona//DibaCMS//EN
BEGIN:VEVENT
UID:23461
DTSTAMP:20260421T190025
DTSTART:20121201T163000
DTEND:20121201T190000
SUMMARY:Dia Mundial de les Persones amb Discapacitat
LOCATION:
METHOD:PUBLISH
X-WR-CALNAME:e-seu@ajpiera.cat
X-WR-TIMEZONE:Europe/Madrid
DESCRIPTION:Dia Mundial de les Persones amb Discapacitat
URI:https://www.viladepiera.cat/actualitat/agenda/23461-dia-mundial-de-les-persones-amb-discapacitat.html
CLASS:PUBLIC
END:VEVENT
END:VCALENDAR
