BEGIN:VCALENDAR
VERSION:2.0
CALSCALE:GREGORIAN
PRODID:-//Diputació de Barcelona//DibaCMS//EN
BEGIN:VEVENT
UID:23462
DTSTAMP:20260421T202821
DTSTART:20121201T100000
DTEND:20121201T100000
SUMMARY:Inici d'exposició: L'alpinisme
LOCATION:
METHOD:PUBLISH
X-WR-CALNAME:e-seu@ajpiera.cat
X-WR-TIMEZONE:Europe/Madrid
DESCRIPTION:Inici d'exposició: L'alpinisme

URI:https://www.viladepiera.cat/actualitat/agenda/inici-dexposicio-lalpinisme.html
CLASS:PUBLIC
END:VEVENT
END:VCALENDAR
