BEGIN:VCALENDAR
VERSION:2.0
CALSCALE:GREGORIAN
PRODID:-//Diputació de Barcelona//DibaCMS//EN
BEGIN:VEVENT
UID:23464
DTSTAMP:20260422T033624
DTSTART:20121201T100000
DTEND:20121201T100000
SUMMARY:Inici d'exposició: Llocs
LOCATION:
METHOD:PUBLISH
X-WR-CALNAME:e-seu@ajpiera.cat
X-WR-TIMEZONE:Europe/Madrid
DESCRIPTION:Inici d'exposició: Llocs

URI:https://www.viladepiera.cat/actualitat/agenda/inici-dexposicio-llocs.html
CLASS:PUBLIC
END:VEVENT
END:VCALENDAR
