BEGIN:VCALENDAR
VERSION:2.0
CALSCALE:GREGORIAN
PRODID:-//Diputació de Barcelona//DibaCMS//EN
BEGIN:VEVENT
UID:23465
DTSTAMP:20260423T085646
DTSTART:20110916T000000
DTEND:20110916T000000
SUMMARY:Programació de Piera Televisió
LOCATION:
METHOD:PUBLISH
X-WR-CALNAME:e-seu@ajpiera.cat
X-WR-TIMEZONE:Europe/Madrid
DESCRIPTION:Programació de Piera Televisió
URI:https://www.viladepiera.cat/actualitat/agenda/programacio-de-piera-televisio.html
CLASS:PUBLIC
END:VEVENT
END:VCALENDAR
