BEGIN:VCALENDAR
VERSION:2.0
CALSCALE:GREGORIAN
PRODID:-//Diputació de Barcelona//DibaCMS//EN
BEGIN:VEVENT
UID:23466
DTSTAMP:20260422T063422
DTSTART:20121201T160000
DTEND:20121201T160000
SUMMARY:Competició de natació
LOCATION:
METHOD:PUBLISH
X-WR-CALNAME:e-seu@ajpiera.cat
X-WR-TIMEZONE:Europe/Madrid
DESCRIPTION:Competició de natació

URI:https://www.viladepiera.cat/actualitat/agenda/23466-competicio-de-natacio.html
CLASS:PUBLIC
END:VEVENT
END:VCALENDAR
