BEGIN:VCALENDAR
VERSION:2.0
CALSCALE:GREGORIAN
PRODID:-//Diputació de Barcelona//DibaCMS//EN
BEGIN:VEVENT
UID:23468
DTSTAMP:20260421T160711
DTSTART:20121204T180000
DTEND:20121204T000000
SUMMARY:Contes a cau d'orella: Fum, fum...
LOCATION:
METHOD:PUBLISH
X-WR-CALNAME:e-seu@ajpiera.cat
X-WR-TIMEZONE:Europe/Madrid
DESCRIPTION:Contes a cau d'orella: Fum, fum...
URI:https://www.viladepiera.cat/actualitat/agenda/contes-a-cau-dorella-fum-fum.html
CLASS:PUBLIC
END:VEVENT
END:VCALENDAR
