BEGIN:VCALENDAR
VERSION:2.0
CALSCALE:GREGORIAN
PRODID:-//Diputació de Barcelona//DibaCMS//EN
BEGIN:VEVENT
UID:23470
DTSTAMP:20260423T035023
DTSTART:20110916T000000
DTEND:20110916T000000
SUMMARY:Jornades Europees del Patrimoni
LOCATION:
METHOD:PUBLISH
X-WR-CALNAME:e-seu@ajpiera.cat
X-WR-TIMEZONE:Europe/Madrid
DESCRIPTION:Jornades Europees del Patrimoni
URI:https://www.viladepiera.cat/actualitat/agenda/23470-jornades-europees-del-patrimoni.html
CLASS:PUBLIC
END:VEVENT
END:VCALENDAR
