BEGIN:VCALENDAR
VERSION:2.0
CALSCALE:GREGORIAN
PRODID:-//Diputació de Barcelona//DibaCMS//EN
BEGIN:VEVENT
UID:23471
DTSTAMP:20260421T144007
DTSTART:20121207T100000
DTEND:20121208T180000
SUMMARY:Guarnim els arbres de la Rectoria!
LOCATION:
METHOD:PUBLISH
X-WR-CALNAME:e-seu@ajpiera.cat
X-WR-TIMEZONE:Europe/Madrid
DESCRIPTION:Guarnim els arbres de la Rectoria!
URI:https://www.viladepiera.cat/actualitat/agenda/guarnim-els-arbres-de-la-rectoria.html
CLASS:PUBLIC
END:VEVENT
END:VCALENDAR
