BEGIN:VCALENDAR
VERSION:2.0
CALSCALE:GREGORIAN
PRODID:-//Diputació de Barcelona//DibaCMS//EN
BEGIN:VEVENT
UID:23472
DTSTAMP:20260421T155949
DTSTART:20121208T221500
DTEND:20121208T221500
SUMMARY:Concurs de Teatre: !Cuéntalo tú que tienes más gracia!
LOCATION:
METHOD:PUBLISH
X-WR-CALNAME:e-seu@ajpiera.cat
X-WR-TIMEZONE:Europe/Madrid
DESCRIPTION:Concurs de Teatre: !Cuéntalo tú que tienes más gracia!

URI:https://www.viladepiera.cat/actualitat/agenda/concurs-de-teatre-cuentalo-tu-que-tienes-mas-gracia.html
CLASS:PUBLIC
END:VEVENT
END:VCALENDAR
