BEGIN:VCALENDAR
VERSION:2.0
CALSCALE:GREGORIAN
PRODID:-//Diputació de Barcelona//DibaCMS//EN
BEGIN:VEVENT
UID:23473
DTSTAMP:20260421T172236
DTSTART:20121210T180000
DTEND:20121210T000000
SUMMARY:Rusquiactivitat: Punt d'abella
LOCATION:
METHOD:PUBLISH
X-WR-CALNAME:e-seu@ajpiera.cat
X-WR-TIMEZONE:Europe/Madrid
DESCRIPTION:Rusquiactivitat: Punt d'abella
URI:https://www.viladepiera.cat/actualitat/agenda/rusquiactivitat-punt-dabella.html
CLASS:PUBLIC
END:VEVENT
END:VCALENDAR
