BEGIN:VCALENDAR
VERSION:2.0
CALSCALE:GREGORIAN
PRODID:-//Diputació de Barcelona//DibaCMS//EN
BEGIN:VEVENT
UID:23474
DTSTAMP:20260423T072444
DTSTART:20110917T160000
DTEND:20110917T193000
SUMMARY:III Torneig falconer de futbol
LOCATION:
METHOD:PUBLISH
X-WR-CALNAME:e-seu@ajpiera.cat
X-WR-TIMEZONE:Europe/Madrid
DESCRIPTION:III Torneig falconer de futbol
URI:https://www.viladepiera.cat/actualitat/agenda/iii-torneig-falconer-de-futbol.html
CLASS:PUBLIC
END:VEVENT
END:VCALENDAR
