BEGIN:VCALENDAR
VERSION:2.0
CALSCALE:GREGORIAN
PRODID:-//Diputació de Barcelona//DibaCMS//EN
BEGIN:VEVENT
UID:23475
DTSTAMP:20260421T171417
DTSTART:20121211T190000
DTEND:20121211T190000
SUMMARY:Cuina sana i saludable amb pocs diners
LOCATION:
METHOD:PUBLISH
X-WR-CALNAME:e-seu@ajpiera.cat
X-WR-TIMEZONE:Europe/Madrid
DESCRIPTION:Cuina sana i saludable amb pocs diners

URI:https://www.viladepiera.cat/actualitat/agenda/cuina-sana-i-saludable-amb-pocs-diners.html
CLASS:PUBLIC
END:VEVENT
END:VCALENDAR
