BEGIN:VCALENDAR
VERSION:2.0
CALSCALE:GREGORIAN
PRODID:-//Diputació de Barcelona//DibaCMS//EN
BEGIN:VEVENT
UID:23477
DTSTAMP:20260421T225220
DTSTART:20121212T190000
DTEND:20121212T000000
SUMMARY:Presentació de llibre: Sobre l'ull i el cap
LOCATION:
METHOD:PUBLISH
X-WR-CALNAME:e-seu@ajpiera.cat
X-WR-TIMEZONE:Europe/Madrid
DESCRIPTION:Presentació de llibre: Sobre l'ull i el cap
URI:https://www.viladepiera.cat/actualitat/agenda/presentacio-de-llibre-sobre-lull-i-el-cap.html
CLASS:PUBLIC
END:VEVENT
END:VCALENDAR
