BEGIN:VCALENDAR
VERSION:2.0
CALSCALE:GREGORIAN
PRODID:-//Diputació de Barcelona//DibaCMS//EN
BEGIN:VEVENT
UID:23480
DTSTAMP:20260421T173925
DTSTART:20121213T180000
DTEND:20121213T000000
SUMMARY:Gimcana. Coneguem la biblioteca
LOCATION:
METHOD:PUBLISH
X-WR-CALNAME:e-seu@ajpiera.cat
X-WR-TIMEZONE:Europe/Madrid
DESCRIPTION:Gimcana. Coneguem la biblioteca
URI:https://www.viladepiera.cat/actualitat/agenda/gimcana-coneguem-la-biblioteca.html
CLASS:PUBLIC
END:VEVENT
END:VCALENDAR
