BEGIN:VCALENDAR
VERSION:2.0
CALSCALE:GREGORIAN
PRODID:-//Diputació de Barcelona//DibaCMS//EN
BEGIN:VEVENT
UID:23481
DTSTAMP:20260421T225918
DTSTART:20121214T190000
DTEND:20121214T000000
SUMMARY:Xerrada: Els secrets de la cosmètica convencional
LOCATION:
METHOD:PUBLISH
X-WR-CALNAME:e-seu@ajpiera.cat
X-WR-TIMEZONE:Europe/Madrid
DESCRIPTION:Xerrada: Els secrets de la cosmètica convencional
URI:https://www.viladepiera.cat/actualitat/agenda/xerrada-els-secrets-de-la-cosmetica-convencional.html
CLASS:PUBLIC
END:VEVENT
END:VCALENDAR
