BEGIN:VCALENDAR
VERSION:2.0
CALSCALE:GREGORIAN
PRODID:-//Diputació de Barcelona//DibaCMS//EN
BEGIN:VEVENT
UID:23482
DTSTAMP:20260422T033127
DTSTART:20121215T100000
DTEND:20121215T200000
SUMMARY:IV Fira de Nadal
LOCATION:
METHOD:PUBLISH
X-WR-CALNAME:e-seu@ajpiera.cat
X-WR-TIMEZONE:Europe/Madrid
DESCRIPTION:IV Fira de Nadal
URI:https://www.viladepiera.cat/actualitat/agenda/iv-fira-de-nadal.html
CLASS:PUBLIC
END:VEVENT
END:VCALENDAR
