BEGIN:VCALENDAR
VERSION:2.0
CALSCALE:GREGORIAN
PRODID:-//Diputació de Barcelona//DibaCMS//EN
BEGIN:VEVENT
UID:23483
DTSTAMP:20260423T012151
DTSTART:20110924T170000
DTEND:20110924T210000
SUMMARY:III Torneig falconer de futbol
LOCATION:
METHOD:PUBLISH
X-WR-CALNAME:e-seu@ajpiera.cat
X-WR-TIMEZONE:Europe/Madrid
DESCRIPTION:III Torneig falconer de futbol
URI:https://www.viladepiera.cat/actualitat/agenda/23483-iii-torneig-falconer-de-futbol.html
CLASS:PUBLIC
END:VEVENT
END:VCALENDAR
