BEGIN:VCALENDAR
VERSION:2.0
CALSCALE:GREGORIAN
PRODID:-//Diputació de Barcelona//DibaCMS//EN
BEGIN:VEVENT
UID:23486
DTSTAMP:20260421T173729
DTSTART:20121216T180000
DTEND:20121216T000000
SUMMARY:Gala de Piera Televisió
LOCATION:
METHOD:PUBLISH
X-WR-CALNAME:e-seu@ajpiera.cat
X-WR-TIMEZONE:Europe/Madrid
DESCRIPTION:Gala de Piera Televisió
URI:https://www.viladepiera.cat/actualitat/agenda/gala-de-piera-televisio.html
CLASS:PUBLIC
END:VEVENT
END:VCALENDAR
