BEGIN:VCALENDAR
VERSION:2.0
CALSCALE:GREGORIAN
PRODID:-//Diputació de Barcelona//DibaCMS//EN
BEGIN:VEVENT
UID:23488
DTSTAMP:20260422T033431
DTSTART:20121216T100000
DTEND:20121216T130000
SUMMARY:Taller infantil de pintura abstracta
LOCATION:
METHOD:PUBLISH
X-WR-CALNAME:e-seu@ajpiera.cat
X-WR-TIMEZONE:Europe/Madrid
DESCRIPTION:Taller infantil de pintura abstracta
URI:https://www.viladepiera.cat/actualitat/agenda/taller-infantil-de-pintura-abstracta.html
CLASS:PUBLIC
END:VEVENT
END:VCALENDAR
