BEGIN:VCALENDAR
VERSION:2.0
CALSCALE:GREGORIAN
PRODID:-//Diputació de Barcelona//DibaCMS//EN
BEGIN:VEVENT
UID:23490
DTSTAMP:20260421T190007
DTSTART:20121217T190000
DTEND:20121217T000000
SUMMARY:Audició de Nadal
LOCATION:
METHOD:PUBLISH
X-WR-CALNAME:e-seu@ajpiera.cat
X-WR-TIMEZONE:Europe/Madrid
DESCRIPTION:Audició de Nadal
URI:https://www.viladepiera.cat/actualitat/agenda/audicio-de-nadal.html
CLASS:PUBLIC
END:VEVENT
END:VCALENDAR
