BEGIN:VCALENDAR
VERSION:2.0
CALSCALE:GREGORIAN
PRODID:-//Diputació de Barcelona//DibaCMS//EN
BEGIN:VEVENT
UID:23493
DTSTAMP:20260423T014140
DTSTART:20110925T100000
DTEND:20110925T000000
SUMMARY:Pedalada contra el canvi climàtic
LOCATION:
METHOD:PUBLISH
X-WR-CALNAME:e-seu@ajpiera.cat
X-WR-TIMEZONE:Europe/Madrid
DESCRIPTION:Pedalada contra el canvi climàtic
URI:https://www.viladepiera.cat/actualitat/agenda/23493-pedalada-contra-el-canvi-climatic.html
CLASS:PUBLIC
END:VEVENT
END:VCALENDAR
