BEGIN:VCALENDAR
VERSION:2.0
CALSCALE:GREGORIAN
PRODID:-//Diputació de Barcelona//DibaCMS//EN
BEGIN:VEVENT
UID:23494
DTSTAMP:20260421T125037
DTSTART:20121219T180000
DTEND:20121219T180000
SUMMARY:II Cantada popular de nadales
LOCATION:
METHOD:PUBLISH
X-WR-CALNAME:e-seu@ajpiera.cat
X-WR-TIMEZONE:Europe/Madrid
DESCRIPTION:II Cantada popular de nadales

URI:https://www.viladepiera.cat/actualitat/agenda/ii-cantada-popular-de-nadales.html
CLASS:PUBLIC
END:VEVENT
END:VCALENDAR
