BEGIN:VCALENDAR
VERSION:2.0
CALSCALE:GREGORIAN
PRODID:-//Diputació de Barcelona//DibaCMS//EN
BEGIN:VEVENT
UID:23495
DTSTAMP:20260422T034207
DTSTART:20121219T190000
DTEND:20121219T000000
SUMMARY:Presentació de llibre: Cuando suba la marea
LOCATION:
METHOD:PUBLISH
X-WR-CALNAME:e-seu@ajpiera.cat
X-WR-TIMEZONE:Europe/Madrid
DESCRIPTION:Presentació de llibre: Cuando suba la marea
URI:https://www.viladepiera.cat/actualitat/agenda/presentacio-de-llibre-cuando-suba-la-marea.html
CLASS:PUBLIC
END:VEVENT
END:VCALENDAR
