BEGIN:VCALENDAR
VERSION:2.0
CALSCALE:GREGORIAN
PRODID:-//Diputació de Barcelona//DibaCMS//EN
BEGIN:VEVENT
UID:23497
DTSTAMP:20260423T074010
DTSTART:20110925T130000
DTEND:20110925T000000
SUMMARY:Inauguració de les rutes de BTT
LOCATION:
METHOD:PUBLISH
X-WR-CALNAME:e-seu@ajpiera.cat
X-WR-TIMEZONE:Europe/Madrid
DESCRIPTION:Inauguració de les rutes de BTT
URI:https://www.viladepiera.cat/actualitat/agenda/inauguracio-de-les-rutes-de-btt.html
CLASS:PUBLIC
END:VEVENT
END:VCALENDAR
