BEGIN:VCALENDAR
VERSION:2.0
CALSCALE:GREGORIAN
PRODID:-//Diputació de Barcelona//DibaCMS//EN
BEGIN:VEVENT
UID:23500
DTSTAMP:20260421T184126
DTSTART:20121221T200000
DTEND:20121221T000000
SUMMARY:Recepció de Nadal
LOCATION:
METHOD:PUBLISH
X-WR-CALNAME:e-seu@ajpiera.cat
X-WR-TIMEZONE:Europe/Madrid
DESCRIPTION:Recepció de Nadal
URI:https://www.viladepiera.cat/actualitat/agenda/23500-recepcio-de-nadal.html
CLASS:PUBLIC
END:VEVENT
END:VCALENDAR
