BEGIN:VCALENDAR
VERSION:2.0
CALSCALE:GREGORIAN
PRODID:-//Diputació de Barcelona//DibaCMS//EN
BEGIN:VEVENT
UID:23501
DTSTAMP:20260421T160604
DTSTART:20121221T100000
DTEND:20121221T210000
SUMMARY:Marató de joguines de la Creu Roja
LOCATION:
METHOD:PUBLISH
X-WR-CALNAME:e-seu@ajpiera.cat
X-WR-TIMEZONE:Europe/Madrid
DESCRIPTION:Marató de joguines de la Creu Roja
URI:https://www.viladepiera.cat/actualitat/agenda/marato-de-joguines-de-la-creu-roja.html
CLASS:PUBLIC
END:VEVENT
END:VCALENDAR
