BEGIN:VCALENDAR
VERSION:2.0
CALSCALE:GREGORIAN
PRODID:-//Diputació de Barcelona//DibaCMS//EN
BEGIN:VEVENT
UID:23502
DTSTAMP:20260423T034947
DTSTART:20110928T210000
DTEND:20110928T000000
SUMMARY:Ple 28.9.11
LOCATION:
METHOD:PUBLISH
X-WR-CALNAME:e-seu@ajpiera.cat
X-WR-TIMEZONE:Europe/Madrid
DESCRIPTION:Ple 28.9.11
URI:https://www.viladepiera.cat/actualitat/agenda/ple-28911.html
CLASS:PUBLIC
END:VEVENT
END:VCALENDAR
