BEGIN:VCALENDAR
VERSION:2.0
CALSCALE:GREGORIAN
PRODID:-//Diputació de Barcelona//DibaCMS//EN
BEGIN:VEVENT
UID:23505
DTSTAMP:20260421T171635
DTSTART:20121222T180000
DTEND:20121222T000000
SUMMARY:Inauguració d'exposició: Olis
LOCATION:
METHOD:PUBLISH
X-WR-CALNAME:e-seu@ajpiera.cat
X-WR-TIMEZONE:Europe/Madrid
DESCRIPTION:Inauguració d'exposició: Olis
URI:https://www.viladepiera.cat/actualitat/agenda/inauguracio-dexposicio-olis.html
CLASS:PUBLIC
END:VEVENT
END:VCALENDAR
