BEGIN:VCALENDAR
VERSION:2.0
CALSCALE:GREGORIAN
PRODID:-//Diputació de Barcelona//DibaCMS//EN
BEGIN:VEVENT
UID:23506
DTSTAMP:20260421T184810
DTSTART:20121222T180000
DTEND:20121222T000000
SUMMARY:Caga tió i pare Noël
LOCATION:
METHOD:PUBLISH
X-WR-CALNAME:e-seu@ajpiera.cat
X-WR-TIMEZONE:Europe/Madrid
DESCRIPTION:Caga tió i pare Noël
URI:https://www.viladepiera.cat/actualitat/agenda/caga-tio-i-pare-noel.html
CLASS:PUBLIC
END:VEVENT
END:VCALENDAR
