BEGIN:VCALENDAR
VERSION:2.0
CALSCALE:GREGORIAN
PRODID:-//Diputació de Barcelona//DibaCMS//EN
BEGIN:VEVENT
UID:23507
DTSTAMP:20260423T003139
DTSTART:20111003T190000
DTEND:20111003T000000
SUMMARY:Acte d'obertura de la Festa de la Gent Gran
LOCATION:
METHOD:PUBLISH
X-WR-CALNAME:e-seu@ajpiera.cat
X-WR-TIMEZONE:Europe/Madrid
DESCRIPTION:Acte d'obertura de la Festa de la Gent Gran
URI:https://www.viladepiera.cat/actualitat/agenda/acte-dobertura-de-la-festa-de-la-gent-gran.html
CLASS:PUBLIC
END:VEVENT
END:VCALENDAR
