BEGIN:VCALENDAR
VERSION:2.0
CALSCALE:GREGORIAN
PRODID:-//Diputació de Barcelona//DibaCMS//EN
BEGIN:VEVENT
UID:23508
DTSTAMP:20260421T210406
DTSTART:20121222T180000
DTEND:20121222T000000
SUMMARY:L'arbre dels desitjos
LOCATION:
METHOD:PUBLISH
X-WR-CALNAME:e-seu@ajpiera.cat
X-WR-TIMEZONE:Europe/Madrid
DESCRIPTION:L'arbre dels desitjos
URI:https://www.viladepiera.cat/actualitat/agenda/larbre-dels-desitjos.html
CLASS:PUBLIC
END:VEVENT
END:VCALENDAR
